BEGIN:VCALENDAR
VERSION:2.0
PRODID:Events Booking
BEGIN:VEVENT
UID:69eb312f0b920
SUMMARY:Vrije Conditietraining Respiro Zaterdag 2026
DESCRIPTION:Zaterdag vrije training voor Harpa&nbsp\; leden met Respiro abo
 nnement van 13:00 tot 16u.
DTSTART:20260620T110000Z
DTEND:20260620T140000Z
DTSTAMP:20251210T075029Z
ORGANIZER;CN=Harpa vzw:MAILTO:website@harpa.be
END:VEVENT
END:VCALENDAR