BEGIN:VCALENDAR
VERSION:2.0
PRODID:Events Booking
BEGIN:VEVENT
UID:69e4e14a6c660
SUMMARY:Conditietraining dinsdag 2026 - Geen Training!
DESCRIPTION:Geen Training!
LOCATION:Tervuursevest 101\, 3000 Leuven
DTSTART:20260421T120000Z
DTEND:20260421T130000Z
DTSTAMP:20251210T073026Z
ORGANIZER;CN=Harpa vzw:MAILTO:website@harpa.be
GEO:50.867283;4.691089
X-APPLE-STRUCTURED-LOCATION;VALUE=URI;X-ADDRESS=Tervuursevest 101\, 3000 Le
 uven;X-APPLE-RADIUS=72;X-TITLE=Sportkot KUL - Gebouw De Nayer:50.867283;4.
 691089
END:VEVENT
END:VCALENDAR