BEGIN:VCALENDAR
VERSION:2.0
PRODID:Events Booking
BEGIN:VEVENT
UID:69eba29d9d335
SUMMARY:HCT B - Fietsen 2026 Steenokkerzeel
DESCRIPTION:
 
 
 DATUM
 VERTREKPLAATS
 BESTEMMING
 WEGKAPITEIN
 
 
 
 donderdag 13 augustus 2026
 Vaartkom het Depot
 Steenokkerzeel
 Will
 y De Keyzer
 
 
 
 
 De tochten vertrekken om 13u30 stipt\, tenzij an
 ders vermeld.
 Een afstand van +/- 30 km\, aan een gemiddelde snelheid 15
  tot 18 km/u\, halverwege een rustpauze van +/-30 minuten. • Een fietshe
 lm is verplicht\, evenals een reserveband.
 Voorzie ook een mondmasker
 
 
 Voor meer info: contacteer Willy De Keyzer &nbsp\;tel: 0475 584 527 of&
 nbsp\;André Billet tel: 0498 816 043
 of via mail: willy.de.keyser1@outl
 ook.be of:&nbsp\;dreke_billet@hotmail.com
LOCATION:Vaartkom\, Leuven\, 3000 Flanders\, Belgium
DTSTART:20260813T113000Z
DTEND:20260813T160000Z
DTSTAMP:20260114T084304Z
ORGANIZER;CN=Harpa vzw:MAILTO:website@harpa.be
GEO:50.88773;4.700249
X-APPLE-STRUCTURED-LOCATION;VALUE=URI;X-ADDRESS=Vaartkom\, Leuven\, 3000 Fl
 anders\, Belgium;X-APPLE-RADIUS=72;X-TITLE=Vaartkom (Opek gebouw):50.88773
 ;4.700249
END:VEVENT
END:VCALENDAR