BEGIN:VCALENDAR
VERSION:2.0
PRODID:Events Booking
BEGIN:VEVENT
UID:69eb92c8239a1
SUMMARY:HCT A fietsen Bierbeek 2026 
DESCRIPTION:&nbsp\;
 
 
 
 zaterdag 8 augustus 2026
 HCT A fietsen
 d
 e Spuye 't Sportkot
 Bierbeek
 &nbsp\;
 Rik Nuytten
 
 
 
 &nbsp\;
 
 • De tochten vertrekken om 13u30 stipt\, tenzij anders vermeld.• Een
  afstand van 55 tot 60 km\, en gemiddelde snelheid 20 tot 21 km/u• Halve
 rwege de rit is een rustpauze van +/-30 minuten voorzien.• Een fietshelm
  is verplicht\, evenals een reserveband
LOCATION:Tervuursevest\, Leuven\, 3001 Flanders\, Belgium
DTSTART:20260808T113000Z
DTEND:20260808T160000Z
DTSTAMP:20260114T075112Z
ORGANIZER;CN=Harpa vzw:MAILTO:website@harpa.be
GEO:50.866339;4.69032
X-APPLE-STRUCTURED-LOCATION;VALUE=URI;X-ADDRESS=Tervuursevest\, Leuven\, 30
 01 Flanders\, Belgium;X-APPLE-RADIUS=72;X-TITLE=Sportkot (De Spuye):50.866
 339;4.69032
END:VEVENT
END:VCALENDAR