BEGIN:VCALENDAR
VERSION:2.0
PRODID:Events Booking
BEGIN:VEVENT
UID:69e7363e6a8e8
SUMMARY:Bedevaart naar Scherpenheuvel 
DESCRIPTION:Naar jaarlijkse gewoonte trekken wij ook dit jaar naar Scherpen
 heuvel om er onze overleden Harpavrienden te gedenken tijdens een misvieri
 ng in de basiliek. Of je nu te voet\, met de fiets of met de auto komt\, i
 edereen is van harte welkom! Inschrijven is niet nodig.
LOCATION:3270 Scherpenheuvel-Zichem
DTSTART:20260425T043000Z
DTEND:20260425T140000Z
DTSTAMP:20260108T134152Z
ORGANIZER;CN=Harpa vzw:MAILTO:website@harpa.be
GEO:50.980355;4.97825
X-APPLE-STRUCTURED-LOCATION;VALUE=URI;X-ADDRESS=3270 Scherpenheuvel-Zichem;
 X-APPLE-RADIUS=72;X-TITLE=Basiliek Scherpenheuvel:50.980355;4.97825
END:VEVENT
END:VCALENDAR