BEGIN:VCALENDAR
VERSION:2.0
PRODID:Events Booking
BEGIN:VEVENT
UID:69e688b84da44
SUMMARY:Harpa Infosessie 2025
DESCRIPTION:De Harpa infosessie 2025 zal doorgaan op zaterdag 8 februari 20
 25\, om 14u in het&nbsp\;auditorium 0&amp\;N4 (4.330 en 04.61) van Gasthui
 sberg. Deze sessie is open voor alle leden\, en andere geïnteresseerden. 
 Er zal koffie en frisdrank zijn in de pauze.
 Prof. Dr. J. Decoster zal s
 preken over \"Anesthesie\"\, met focus op zorg bij hartpatiënten.
 Alle 
 informatie voor bereikbaarheid vind je op deze links:&nbsp\;https://www.ku
 leuven.be/kulag/nl/gebouw/404-24/onderwijs
 https://www.kuleuven.be/kulag
 /media/original/b84ef034-7f46-4950-a036-10dc4114ab79.pdf
 Voor de parking
  (BEZOEKERSPARKING ONDERWIJS EN NAVORSING) is een toegangscode nodig.&nbsp
 \;De toegangscode voor de parking Onderwijs en Navorsing voor zaterdag 8 f
 ebruari is: 35939#&nbsp\;De 5-cijferige code dient steeds te worden afgesl
 oten met het hekje #. Deze code is nodig voor zowel het binnenrijden\, als
  het buitenrijden.
 De dichtbijgelegen bushalte is: Bushalte Gasthuisberg
  Onderwijs en navorsing - routeplanning&nbsp\;vanaf station Leuven.
 Er z
 ullen wegwijzers geplaatst worden voor het Harpa evenement vanaf de parkin
 g. Het auditorium is op \"de blauwe straat\".
 Wij zullen het onthaal van
  Gasthuisberg inlichten over de activiteit.
LOCATION:Herestraat\, Leuven\, 3000 Flanders\, Belgium
DTSTART:20250208T130000Z
DTEND:20250208T160000Z
DTSTAMP:20241014T125302Z
ORGANIZER;CN=Harpa vzw:MAILTO:website@harpa.be
GEO:50.881532;4.683405
X-APPLE-STRUCTURED-LOCATION;VALUE=URI;X-ADDRESS=Herestraat\, Leuven\, 3000 
 Flanders\, Belgium;X-APPLE-RADIUS=72;X-TITLE=Gasthuisberg\, 0nderwijs en N
 avorsing:50.881532;4.683405
END:VEVENT
END:VCALENDAR